BEGIN:VCALENDAR
VERSION:2.0
PRODID:icalendar-ruby
CALSCALE:GREGORIAN
METHOD:PUBLISH
BEGIN:VEVENT
DTSTAMP:20260421T110710Z
UID:45-591215@ffcathens.com
DTSTART:20260517T150000Z
DTEND:20260517T163000Z
CLASS:PUBLIC
CREATED:20260413T175332
DESCRIPTION:
LAST-MODIFIED:20260413T175332
LOCATION:
SUMMARY:AWANA Closing Ceremony
URL;VALUE=URI:https://ffcathens.com/events/awana-closing-ceremony--45/2026-
 05-17
ATTACH;FILENAME=AWANA-Closing-Ceremony-2026-Thumbnail.png;FMTTYPE=image/png
 :https://dq5pwpg1q8ru0.cloudfront.net/2026/04/13/22/53/32/b45b0ad8-4ec5-4f
 b1-a26b-156670465661/AWANA-Closing-Ceremony-2026-Thumbnail.png
END:VEVENT
END:VCALENDAR
